{"text_format":"1","workbook":"xlsx","n_sheets":3,"sheets":["HF申込書(2015)","Data","Record"],"not_rendered":{"charts":0,"images":0,"macros":1,"external_links":0,"defined_names":9,"comments":0,"pivot_tables":0},"unopened":[],"bounds":{"document_bytes":16777216,"sheet_cells":100000,"rows_first":2000,"rows_last":500,"rows_between":2000,"halvings":0,"cell_chars":16384,"cell_head_chars":4096},"cells_cut":0,"cells_raw":0,"read":"whole","date_system":"1904"}

{"sheet":"HF申込書(2015)","index":0,"n_rows":70,"n_cols":19,"rows_kept":70,"cut":false,"hidden":false,"merged":[[66,0,67,5],[66,6,67,7],[22,1,22,2],[24,1,24,2],[0,0,0,7],[5,0,5,7],[20,1,20,2],[21,1,21,2],[20,5,20,7],[49,0,50,0],[53,0,54,0],[39,3,39,4],[25,1,25,2],[27,1,27,2],[23,1,23,2],[26,1,26,2],[31,1,32,1],[31,0,32,0],[31,3,31,4],[31,5,32,5],[31,6,32,6],[19,1,19,2],[51,0,52,0],[61,2,62,5],[63,2,64,5],[69,0,70,1],[69,2,70,7],[61,0,64,1],[39,6,40,6],[30,3,30,4],[39,0,40,0],[39,1,40,1],[39,2,40,2],[39,5,40,5],[39,7,40,7],[31,7,32,7],[31,2,32,2]]}
["第10回 JBGホースフェスティバル 申込書(メール用)"]
[]
["申込先： 日本社会人団体馬術連盟 事務局宛"]
["E-mail：shabaren@jbg.jp"]
[]
["※団体窓口の負担軽減や運営などの都合上、原則として個人単位のエントリーとさせていただきます。団体でまとめて申込む場合も、申込書は個人につき１ファイルでお願い致します。"]
["※ファイル名の「JBG_HFname.xlsm」のnameの部分を出場者氏名に変更して下さい。"]
["※複数名のエントリーフィーをまとめて振り込む際は、必ず全員分の名前を振込元名に記入して下さい。"]
["　さらに、必ず社馬連事務局に全員分の名前をお知らせ下さい。"]
["※非会員の申し込みの場合には、所属団体記載欄に関係会員の氏名を記入してください。"]
["※保険付保の欄には「何らかのスポーツ団体傷害保険」の加入の有無を記入してください。"]
["※何らかのスポーツ団体傷害保険に加入していない場合は出場できません。"]
["※申込み方法の詳細については、「第10回 JBGホースフェスティバル」サイト ( http://www.jbg.jp/hf/ )をご参照下さい。"]
["※社馬連加盟団体の現役部員の方は会員、それ以外の方(OB・友人等)は非会員を選択してください"]
["※会員または非会員で社馬連騎乗者資格に相当する資格を有しているかたは所有資格欄にて社馬連相当資格を選択してください"]
["※会員または非会員で社馬連騎乗者資格に相当する資格を有していないかたは所有資格欄にて\"無\"を選択してください"]
["※この申込書は、「会員/非会員」,「所有資格」を入力する事で、自動的に入力制限が掛かりますのでご注意ください"]
[]
["■出場者"]
["○申込日"]
["○氏名",null,null,null,null,"エントリー締切：6月19日(金)"]
["○フリガナ"]
["○性別",null,null,null,null,"★エントリーフィー振込先★"]
["○会員/非会員",null,null,null,null,"日本社会人団体馬術連盟",null,null,null,null,{"$f":"IF(B24<>\"\",VLOOKUP(B24,Data!B2:C3,2,FALSE),0)","v":0}]
["○所属団体",null,null,null,null,"三井住友銀行　神田支店(普) 1300690"]
["○所有グレード",null,null,null,null,"振込締切：6月26日（金）",null,null,null,null,{"$f":"IF(B26<>\"\",VLOOKUP(B26,Data!D2:E8,2,FALSE),0)","v":0}]
["○連絡先E-mail"]
["○保険付保"]
[]
["■エントリー"]
[" 競技"]
["□７月４日（土）","競技名","複数\nエントリー","エントリー費",null,"エントリー数","小計","出場資格"]
[null,null,null,"会員","非会員",null,null,null,null,null,"資格有?","N/A","A","B","B'","C","D","D'","無"]
["第1競技","グリーンカップ 部班速歩班","不可",3000,4000,null,{"$f":"IF(F34=\"-\",0,IF($K$24=2,$E34*$F34,D34*$F34))","v":0},"社馬連資格Cグレード相当以下",null,null,{"$f":"OFFSET(K34,0,1+$K$26)","v":0},0,0,0,0,1,1,1,1]
["第2競技","グリーンカップ 部班駈歩班","不可",3000,4000,null,{"$f":"IF(F35=\"-\",0,IF($K$24=2,$E35*$F35,D35*$F35))","v":0},"社馬連資格Cグレード相当以下",null,null,{"$f":"OFFSET(K35,0,1+$K$26)","v":0},0,0,0,0,1,1,1,1]
["第3競技","グリーンカップ JEFA2課目2013","不可",5500,6500,null,0,"Cグレード相当、又はB'グレード保有者で社馬連主要競技(全日本社会人馬術選手権大会、キャロット自馬選手権)の出場実績がないこと",null,null,0,0,0,0,1,1,0,0,0]
["第4競技","全日本社会人馬術選手権大会\n馬場馬術課目 2015 (一般班)","可",8000,9000,null,0,"Bグレート相当、又はB'グレード以上を保有していること",null,null,0,0,1,1,1,0,0,0,0]
["第5競技","JEF A3課目2013 (一般班/ビギナー班)","可",8000,9000,null,0,"Cグレード相当、又はB'グレードもしくはBグレードを保有していること",null,null,0,0,0,1,1,1,0,0,0]
["第6競技","ジムカーナ ペアリレー","不可",3000,4000,null,0,"社馬連Cグレード相当以上。ペアでの出場が条件。男女でも同性でも可。",null,null,0,0,1,1,1,1,0,0,0]
["□ 7月5日(日)","競技名","複数\nエントリー","エントリー費",null,"エントリー数","小計","出場資格"]
[null,null,null,"会員","非会員"]
["第7競技","グリーンカップ ジムカーナ速歩班","不可",3000,4000,null,{"$f":"IF(F42=\"-\",0,IF($K$24=2,$E42*$F42,D42*$F42))","v":0},"社馬連資格Cグレード相当以下",null,null,{"$f":"OFFSET(K42,0,1+$K$26)","v":0},0,0,0,0,1,1,1,1]
["第8競技","グリーンカップ ジムカーナ駈歩班","不可",3000,4000,null,0,"社馬連資格Cグレード相当以下",null,null,0,0,0,0,0,1,1,1,1]
["第9競技","グリーンカップ\n　　ビギナーズジャンプ 60cm","不可",5500,6500,null,0,"Cグレード相当、又はB'グレード保有者",null,null,0,0,0,0,1,1,0,0,0]
["第10競技","小障害飛越80cm (一般班)","可",8000,9000,null,0,"社馬連資格Bグレード相当以上",null,null,0,0,1,1,0,0,0,0,0]
["第11競技","小障害飛越80cm (ビギナー班)","可",8000,9000,null,0,"B'グレード相当、又はBグレード保有者で社馬連主要競技(全日本社会人馬術選手権大会、キャロット自馬選手権、実業団戦)への出場実績がないこと",null,null,0,0,0,1,1,0,0,0,0]
["第12競技","ゴールデンカップ\n　　小障害飛越 80cmペアリレー","不可",8000,9000,null,0,"男女ペア及び女女ペアの場合は45歳以上を1名、男男ペアの場合は2名の合計が90歳以上\nペア共に社馬連資格Bグレード相当以上",null,null,0,0,1,1,0,0,0,0,0]
["第13競技","小障害飛越 90cm","不可",9000,10000,null,0,"社馬連資格Ｂグレード相当以上",null,null,0,0,1,1,0,0,0,0,0]
[" 参加費等"]
["参加費","1日のみ参加 (4日か5日のみ参加)",null,2000,2000,{"$f":"IF(OR(AND(SUM(F$34:F$39)>=1,SUM(F$42:F$48)=0),AND(SUM(F$34:F$39)=0,SUM(F$42:F$48)>=1)),1,0)","v":0},{"$f":"IF(F50=\"-\",0,IF($K$24=0,$E50*$F50,D50*$F50))","v":0},"懇親会費は含みません"]
[null,"2日間参加 (4日,5日とも参加)",null,3000,3000,{"$f":"IF(AND(SUM(F$34:F$39)>=1,SUM(F$42:F$48)>=1),1,0)","v":0},0,"懇親会費を含みます"]
["懇親会費","懇親会費 (4日開催)",null,1000,1000,null,0,"1日のみ参加で懇親会に参加される方"]
[null,"本人以外 懇親会費 (4日開催)",null,1000,1000,null,0,"選手本人以外(家族分など)の懇親会費"]
["昼食弁当","昼食弁当 (4日)",null,1000,1000,null,0]
[null,"昼食弁当 (5日)",null,1000,1000,null,0]
[]
[null,null,null,"合計金額",null,null,{"$f":"SUM(G34:G55)","v":0},"←振込合計金額"]
[]
["※1 第6競技・第12競技のペアリレーのエントリー費は1名分ですので、各自、エントリー費を計上してください。"]
["※2 家族分などの懇親会・お弁当を申し込まれる方は数をご記入下さい。"]
["※3 弁当を複数注文の場合は、本申し込み分を申込者がまとめて受け取ってください。"]
["第6競技ジムカーナペアリレー・12競技ゴールデンカップ小障害80cmペアリレー参加者は、右の欄にペアの方の名前と所属を記入してください。",null,"第6競技 ジムカーナペアリレー",null,null,null,"所属"]
[null,null,null,null,null,null,"氏名"]
[null,null,"第12競技 ゴールデンカップ\n    小障害80cmペアリレー",null,null,null,"所属"]
[null,null,null,null,null,null,"氏名"]
[]
["第5競技の JEF A3課目2013を希望する方については、\"一般班\"か\"ビギナー班\"か選択をお願いします"]
[]
[]
["本人以外の懇親会参加者\n(複数の場合は, で区切ってください)"]

{"sheet":"Data","index":1,"n_rows":8,"n_cols":9,"rows_kept":8,"cut":false,"hidden":true,"merged":[]}
["性別","会員区分",null,"グレード",null,"班","複数可","複数不可","参加不可"]
["男","会員",1,"社馬連 Aグレード",1,"一般班",0,0,"-"]
["女","非会員",2,"社馬連 Bグレード (社馬連B相当)",2,"ビギナー班",1,1]
[null,null,null,"社馬連 B'グレード (社馬連B'相当)",3,null,2]
[null,null,null,"社馬連 Cグレード (社馬連C相当)",4]
[null,null,null,"社馬連 Dグレード",5]
[null,null,null,"社馬連 D'グレード",6]
[null,null,null,"グレードなし",7]

{"sheet":"Record","index":2,"n_rows":2,"n_cols":29,"rows_kept":2,"cut":false,"hidden":true,"merged":[]}
["申込日","氏名","フリガナ","性別","会員","団体","G","保険",1,2,3,4,5,6,7,8,9,10,11,12,13,"懇親会","弁当4","弁当5","6所属","6氏名","12所属","12氏名","5区分"]
[{"$f":"'HF申込書(2015)'!B20","v":0},{"$f":"'HF申込書(2015)'!B21","v":0},{"$f":"'HF申込書(2015)'!B22","v":0},{"$f":"'HF申込書(2015)'!B23","v":0},{"$f":"'HF申込書(2015)'!K24","v":0},{"$f":"'HF申込書(2015)'!B25","v":0},{"$f":"'HF申込書(2015)'!K26","v":0},{"$f":"'HF申込書(2015)'!D28","v":0},{"$f":"'HF申込書(2015)'!F34","v":0},{"$f":"'HF申込書(2015)'!F35","v":0},{"$f":"'HF申込書(2015)'!F36","v":0},{"$f":"'HF申込書(2015)'!F37","v":0},{"$f":"'HF申込書(2015)'!F38","v":0},{"$f":"'HF申込書(2015)'!F39","v":0},{"$f":"'HF申込書(2015)'!F42","v":0},{"$f":"'HF申込書(2015)'!F43","v":0},{"$f":"'HF申込書(2015)'!F44","v":0},{"$f":"'HF申込書(2015)'!F45","v":0},{"$f":"'HF申込書(2015)'!F46","v":0},{"$f":"'HF申込書(2015)'!F47","v":0},{"$f":"'HF申込書(2015)'!F48","v":0},{"$f":"SUM('HF申込書(2015)'!F51:'HF申込書(2015)'!F53)","v":0},{"$f":"'HF申込書(2015)'!F54","v":0},{"$f":"'HF申込書(2015)'!F55","v":0},{"$f":"'HF申込書(2015)'!H62","v":0},{"$f":"'HF申込書(2015)'!H63","v":0},{"$f":"'HF申込書(2015)'!H64","v":0},{"$f":"'HF申込書(2015)'!H65","v":0},{"$f":"'HF申込書(2015)'!G67","v":0}]